BEGIN:VCALENDAR
PRODID:-//eluceo/ical//2.0/EN
VERSION:2.0
CALSCALE:GREGORIAN
BEGIN:VEVENT
UID:439c3af90bc948affd951fda2b3c13ea
DTSTAMP:20260423T002023Z
SUMMARY:10 AM\, JCA\, Cultural Arts Festival: Young Family Program
DESCRIPTION:Jewish Federation & Foundation of Northeast Florida\nFederation
  events and programs\nhttps://jewishjacksonville.org/federation-events-and
 -programs/10-am-jca-cultural-arts-festival-young-family-program-386559\n\n
 Young Family Program with PJ Library\n\nOne Good Deed\n\nFamilies\, join u
 s for a book walk during the Cultural Arts Festival at the JCA as we share
  One Good Deed with our community. The children’s book written by Terri 
 Fields and illustrated by Deborah Melmon stresses how one small act of kin
 dness can lead to another. During our book walk\, families will enjoy One 
 Good Deed displayed by poster-sized pages in 10 different stations. Famili
 es will walk to each station where they will read a por...
DTSTART;TZID=America/New_York:20211107T100000
DTEND;TZID=America/New_York:20211107T120000
END:VEVENT
END:VCALENDAR
