BEGIN:VCALENDAR
PRODID:-//eluceo/ical//2.0/EN
VERSION:2.0
CALSCALE:GREGORIAN
BEGIN:VEVENT
UID:545b3ccbcf2db7212f5d10d2a32a7003
DTSTAMP:20260426T023546Z
SUMMARY:10 AM Federation Tuesdays Together
DESCRIPTION:Jewish Federation & Foundation of Northeast Florida\nFederation
  events and programs\nhttps://jewishjacksonville.org/federation-events-and
 -programs/10-am-federation-tuesdays-together-july-383659\n\nIf you or some
 one you know is new or moving to Northeast Florida\, join Jewish Federatio
 n & Foundation of Northeast Florida for Tuesdays Together: Community\, Con
 versation\, & Coffee.\n\nThis quarterly program will meet for the first ti
 me in person on July 6 @ 10 AM!\n\nLocation: First Watch on Baymeadows Roa
 d\n\nRSVP to Faye Hedrick at FayeH@jewishjacksonville.org.
DTSTART;TZID=America/New_York:20210706T100000
DTEND;TZID=America/New_York:20210706T110000
END:VEVENT
END:VCALENDAR
