BEGIN:VCALENDAR
PRODID:-//eluceo/ical//2.0/EN
VERSION:2.0
CALSCALE:GREGORIAN
BEGIN:VEVENT
UID:bd34c6bdae1a63fc86429678dd482fee
DTSTAMP:20260422T061338Z
SUMMARY:Countering Active Threat Training (CATT)
DESCRIPTION:Jewish Federation & Foundation of Northeast Florida\nBeaches ar
 ea information\nhttps://jewishjacksonville.org/beaches-area-information/co
 untering-active-threat-training-cattapril28-461956\n\nCountering Active Th
 reat Training (CATT)\n\n\n\n\nSunday April 28th 2024 • 1:30 pm\n\n\n\nBe
 th El - The Beaches Synagogue\, Ponte Vedra Beach\, FL\n\n \n\n\n \n\nGE
 T INVOLVED. GET EMPOWERED. GET TRAINED.\n\n\n\nCountering Active Threat T
 raining (CATT)\n\nA comprehensive training program to counter an active th
 reat event developed for nonprofits\, faith-based institutions and houses 
 of worship.\n\n\n\nduring an active threat event.
DTSTART;TZID=America/New_York:20240428T000000
DTEND;TZID=America/New_York:20240428T235959
END:VEVENT
END:VCALENDAR
