BEGIN:VCALENDAR
PRODID:-//eluceo/ical//2.0/EN
VERSION:2.0
CALSCALE:GREGORIAN
BEGIN:VEVENT
UID:c6c947c69a9531ffca8f8ca4563b9c5e
DTSTAMP:20260420T114632Z
SUMMARY:Men's Mishmar Program - Young Professional's Group w/ Joey Hamaoui
DESCRIPTION:Jewish Federation & Foundation of Northeast Florida\nAdult Educ
 ation\nhttps://jewishjacksonville.org/adult-education/mens-mishmar-program
 -young-professionals\n\n \n\n\n\n \n\n 
DTSTART;TZID=America/New_York:20210107T194500
DTEND;TZID=America/New_York:20210107T204500
END:VEVENT
END:VCALENDAR
