BEGIN:VCALENDAR
PRODID:-//eluceo/ical//2.0/EN
VERSION:2.0
CALSCALE:GREGORIAN
BEGIN:VEVENT
UID:96a90c0a62e2d3111aafce4fc2998151
DTSTAMP:20260420T185449Z
SUMMARY:Countering Active Threat Training (CATT) &   Stop The Bleed Trainin
 g
DESCRIPTION:Jewish Federation & Foundation of Northeast Florida\nAdult Educ
 ation\nhttps://jewishjacksonville.org/adult-education/countering-active-th
 reat-training-catt-stop-the-bleed-training-461954\n\nCountering Active Thr
 eat Training (CATT) & Stop The Bleed Training \nTuesday March 19th 2024 
 • 7:00 pm\n\n\n\n\nChabad at the Beaches\, 521 A1A North\, Ponte Vedra B
 each\, FL\n\n \n\n 
DTSTART;TZID=America/New_York:20240319T190000
DTEND;TZID=America/New_York:20240319T210000
END:VEVENT
END:VCALENDAR
