BEGIN:VCALENDAR
PRODID:-//eluceo/ical//2.0/EN
VERSION:2.0
CALSCALE:GREGORIAN
BEGIN:VEVENT
UID:4a58a6c8376e3c2cadffa258a0692bc9
DTSTAMP:20260423T172843Z
SUMMARY:Countering Active Threat Training (CATT) - April 28\, 2024
DESCRIPTION:Jewish Federation & Foundation of Northeast Florida\nAdult Educ
 ation\nhttps://jewishjacksonville.org/adult-education/countering-active-th
 reat-training-catt-april-28-2024-461957\n\nCountering Active Threat Traini
 ng (CATT)\n\nSunday April 28th 2024 • 11am - 1:30 pm\n\n\n\n\nBeth El - 
 The Beaches Synagogue\, Ponte Vedra Beach\, FL\n\n \n\n\nGET INVOLVED. GE
 T EMPOWERED. GET TRAINED.\n\n\n\nCountering Active Threat Training (CATT)
 \n\nA comprehensive training program to counter an active threat event dev
 eloped for nonprofits\, faith-based institutions and houses of worship.
DTSTART;TZID=America/New_York:20240428T110000
DTEND;TZID=America/New_York:20240428T133000
END:VEVENT
END:VCALENDAR
